BEGIN:VCALENDAR
VERSION:2.0
PRODID:-// - ECPv5.16.3.1//NONSGML v1.0//EN
CALSCALE:GREGORIAN
METHOD:PUBLISH
X-ORIGINAL-URL:https://www.midatlantichandguntraining.com
X-WR-CALDESC:Events for 
REFRESH-INTERVAL;VALUE=DURATION:PT1H
X-Robots-Tag:noindex
X-PUBLISHED-TTL:PT1H
BEGIN:VTIMEZONE
TZID:America/New_York
BEGIN:DAYLIGHT
TZOFFSETFROM:-0500
TZOFFSETTO:-0400
TZNAME:EDT
DTSTART:20220313T070000
END:DAYLIGHT
BEGIN:STANDARD
TZOFFSETFROM:-0400
TZOFFSETTO:-0500
TZNAME:EST
DTSTART:20221106T060000
END:STANDARD
TZID:America/Halifax
BEGIN:DAYLIGHT
TZOFFSETFROM:-0400
TZOFFSETTO:-0300
TZNAME:ADT
DTSTART:20220313T060000
END:DAYLIGHT
BEGIN:STANDARD
TZOFFSETFROM:-0300
TZOFFSETTO:-0400
TZNAME:AST
DTSTART:20221106T050000
END:STANDARD
END:VTIMEZONE
BEGIN:VEVENT
DTSTART;TZID=America/New_York:20221119T090000
DTEND;TZID=America/New_York:20221120T170000
DTSTAMP:20260423T060411
CREATED:20220811T193653Z
LAST-MODIFIED:20221013T170443Z
UID:639-1668848400-1668963600@www.midatlantichandguntraining.com
SUMMARY:MD Concealed Carry Class
DESCRIPTION:The Maryland Handgun Wear and Carry Permit Training class is a 2 day program and students must attend both days. Mid Atlantic Handgun Training will provide the students with the required training to apply for the MD Concealed Carry Permit. We assist the student through the entire process\, including the online application with the MSP. Our award winning program books up quickly\, due to our small class size allowing individualized instruction. \nTopics covered include: \n\nCurrent Maryland Firearm Laws & Regulations\nDeveloping a Personal Protection Plan\nSelf Defense Firearm Basics\nDefensive Shooting Fundamentals\nThe Legal Use of Force\nViolent Encounters and Their Aftermath\nGear and Gadgets\nBasic and Advanced Skills and Tactics\n\nThis program also includes the required live fire firearm qualification as required by the Maryland statute. \nThe dates for this class will be 11/19/22 & 11/20/22
URL:https://www.midatlantichandguntraining.com/event/md-concealed-carry-class-day-1-3/
LOCATION:Funkstown Volunteer Fire Company\, 2 S. Westside Ave\, Funkstown\, MD\, 21734\, United States
CATEGORIES:Classes
ATTACH;FMTTYPE=image/jpeg:https://www.midatlantichandguntraining.com/wp-content/uploads/2022/08/Banner-for-Concealed-Carry-Class.jpg
END:VEVENT
BEGIN:VEVENT
DTSTART;TZID=America/Halifax:20221119T090000
DTEND;TZID=America/Halifax:20221119T130000
DTSTAMP:20260423T060411
CREATED:20220811T194908Z
LAST-MODIFIED:20221013T170614Z
UID:660-1668848400-1668862800@www.midatlantichandguntraining.com
SUMMARY:MD Handgun Qualification (HQL) Training
DESCRIPTION:Product Description\nMid Atlantic Handgun Training\, Inc. is offering the required 4 hour training course for the MD HQL on a regular basis both as scheduled classes and for individuals and small groups by appointment. This course will consist of the following topics: \n\n\nState Firearm Law\n\nOverview of laws\nDiscussion regarding regulated firearms\nHow to purchase\nHow to transfer\nWhere permitted to carry\nWhere permitted to transport\nWhere it is necessary to possess a permit\nWho is prohibited from possessing\n\n\n\nHome Firearm Safety\n\nOverview of firearm safety in the home\nDiscussion on access to minors\nLocking & storing\nProper use of safety devices\n\n\n\nHandgun Mechanism & Operation\n\nOverview of proper operation\nOverview of safe handling\nCleaning & maintenance\nLoading & unloading\nDifferences between revolvers & automatics\n\n\n\nThe course will also consist of a live fire component in which you will demonstrate your ability to fire a pistol under the supervision of an instructor. The rental of a semi automatic .22 caliber pistol and ammunition is included in the course fee. \nPlease contact us for further details and questions. \n  \nUnder the Firearms Safety Act 2013 also known as SB281\, all new handgun purchasers must apply for and receive a Handgun Qualification License (HQL) before purchase. This HQL must be presented to the FFL or gun shop. \nThere are certain individuals who are exempt from the handgun qualification license: \n\nA Licensed Firearms Manufacturer.\nActive law enforcement officer or a person retired in good standing from a law enforcement agency of the United States\, the State\, or a local law enforcement agency of the State.\nA member or retired member of the armed forces of the United States or National Guard.\nA person purchasing\, renting or receiving an antique\, curio or relic as defined in federal law or in determinations published by the Bureau of Alcohol\, Tobacco\, Firearms and Explosives.\n\nThe above listed individuals must provide acceptable documentation or valid credentials to a Regulated Firearms Dealer prior to purchasing or transferring a regulated firearm. All other Maryland residents are required to possess and present a valid Handgun Qualification License prior to the purchase or transfer of a regulated firearm. \nPersons required to have a Handgun Qualification License\, but who are exempt from the training component: \n\nHave completed a Maryland State Police (MSP) approved certified firearms safety course.\nHave completed a course of instruction and been issued a certificate of competency in firearms and hunter safety from the Maryland Department of Natural Resources.\nIs currently a qualified handgun instructor.\nIs an honorably discharged member of the armed forces of the United States or National Guard.\nIs an employee of an armored car company who has a valid Wear and Carry Permit issued by MSP.\nLawfully owns a regulated firearm. If you own a regulated firearm prior to October 1\, 2013\, you are not required to complete the training and may apply for the Handgun Qualification License.\n\nPlease contact us for further details and questions.
URL:https://www.midatlantichandguntraining.com/event/md-handgun-qualification-hql-training-3/
LOCATION:Funkstown Volunteer Fire Company\, 2 S. Westside Ave\, Funkstown\, MD\, 21734\, United States
CATEGORIES:Classes
ATTACH;FMTTYPE=image/jpeg:https://www.midatlantichandguntraining.com/wp-content/uploads/2013/10/firearms-training-01.jpg
END:VEVENT
BEGIN:VEVENT
DTSTART;TZID=America/New_York:20221111T100000
DTEND;TZID=America/New_York:20221111T140000
DTSTAMP:20260423T060411
CREATED:20220811T222305Z
LAST-MODIFIED:20220829T132459Z
UID:675-1668160800-1668175200@www.midatlantichandguntraining.com
SUMMARY:Machine Gun Training
DESCRIPTION:Class will run from 10am-2pm \nThis class will introduce students to the different types of machine guns that are available to be transferred to individuals. The National Firearms Act of 1934 will be reviewed as well as the procedure to purchase\, register and maintain a machine gun in MD. During the class students will be able to fire multiple machine guns from 1921 to present. The Colt 1928 Navy Overstamp Thompson\, M3A1 Grease Gun\, S&W Model 76\, H&K MP5kSD\, Mac 10 and a Glock 18 will be some of the machine guns highlighted in this one of a kind class! Spots fill up super fast\, almost as fast as 1300 rounds a minute……. \n\n\n\nhttps://midatlantic.smartsoftware.solutions/wp-content/uploads/2022/08/MachineGunClass1_Converted.mp4\n\n \n\nhttps://midatlantic.smartsoftware.solutions/wp-content/uploads/2022/08/MachineGunClass2_Converted.mp4\n\n \n\nhttps://midatlantic.smartsoftware.solutions/wp-content/uploads/2022/08/MachineGunClass3_Converted.mp4
URL:https://www.midatlantichandguntraining.com/event/machine-gun-training-2/
LOCATION:Antietam Firearms\, 35 W. Baltimore Street\, Funkstown\, MD\, 21734\, United States
ATTACH;FMTTYPE=image/jpeg:https://www.midatlantichandguntraining.com/wp-content/uploads/2022/08/Pic-for-Machine-Gun-Class-2.jpg
END:VEVENT
BEGIN:VEVENT
DTSTART;TZID=America/New_York:20221021T100000
DTEND;TZID=America/New_York:20221021T140000
DTSTAMP:20260423T060411
CREATED:20220811T222149Z
LAST-MODIFIED:20220811T222354Z
UID:671-1666346400-1666360800@www.midatlantichandguntraining.com
SUMMARY:Machine Gun Training (Sold Out)
DESCRIPTION:Class will run from 10am-2pm \nThis class will introduce students to the different types of machine guns that are available to be transferred to individuals. The National Firearms Act of 1934 will be reviewed as well as the procedure to purchase\, register and maintain a machine gun in MD. During the class students will be able to fire multiple machine guns from 1921 to present. The Colt 1928 Navy Overstamp Thompson\, M3A1 Grease Gun\, S&W Model 76\, H&K MP5kSD\, Mac 10 and a Glock 18 will be some of the machine guns highlighted in this one of a kind class! Spots fill up super fast\, almost as fast as 1300 rounds a minute……. \n\n\nhttps://midatlantic.smartsoftware.solutions/wp-content/uploads/2022/08/MachineGunClass1_Converted.mp4\n\n \n\nhttps://midatlantic.smartsoftware.solutions/wp-content/uploads/2022/08/MachineGunClass2_Converted.mp4\n\n \n\nhttps://midatlantic.smartsoftware.solutions/wp-content/uploads/2022/08/MachineGunClass3_Converted.mp4
URL:https://www.midatlantichandguntraining.com/event/machine-gun-training-sold-out/
LOCATION:MD
ATTACH;FMTTYPE=image/jpeg:https://www.midatlantichandguntraining.com/wp-content/uploads/2022/08/Pic-for-Machine-Gun-Class-2.jpg
END:VEVENT
BEGIN:VEVENT
DTSTART;TZID=America/New_York:20221015T090000
DTEND;TZID=America/New_York:20221016T170000
DTSTAMP:20260423T060411
CREATED:20220811T193031Z
LAST-MODIFIED:20220829T132605Z
UID:629-1665824400-1665939600@www.midatlantichandguntraining.com
SUMMARY:MD Concealed Carry Class
DESCRIPTION:The Maryland Handgun Wear and Carry Permit Training class is a 2 day program and students must attend both days. Mid Atlantic Handgun Training will provide the students with the required training to apply for the MD Concealed Carry Permit. We assist the student through the entire process\, including the online application with the MSP. Our award winning program books up quickly\, due to our small class size allowing individualized instruction. \nTopics covered include: \n\nCurrent Maryland Firearm Laws & Regulations\nDeveloping a Personal Protection Plan\nSelf Defense Firearm Basics\nDefensive Shooting Fundamentals\nThe Legal Use of Force\nViolent Encounters and Their Aftermath\nGear and Gadgets\nBasic and Advanced Skills and Tactics\n\nThis program also includes the required live fire firearm qualification as required by the Maryland statute. \nThe dates for this class will be 10/15 & 10/16.
URL:https://www.midatlantichandguntraining.com/event/md-concealed-carry-class-day-1/
LOCATION:Funkstown Volunteer Fire Company\, 2 S. Westside Ave\, Funkstown\, MD\, 21734\, United States
CATEGORIES:Classes
ATTACH;FMTTYPE=image/jpeg:https://www.midatlantichandguntraining.com/wp-content/uploads/2022/08/Banner-for-Concealed-Carry-Class.jpg
END:VEVENT
BEGIN:VEVENT
DTSTART;TZID=America/Halifax:20221015T090000
DTEND;TZID=America/Halifax:20221015T130000
DTSTAMP:20260423T060411
CREATED:20220811T194618Z
LAST-MODIFIED:20220829T132720Z
UID:652-1665824400-1665838800@www.midatlantichandguntraining.com
SUMMARY:MD Handgun Qualification (HQL) Training
DESCRIPTION:Product Description\nMid Atlantic Handgun Training\, Inc. is offering the required 4 hour training course for the MD HQL. This course will consist of the following topics: \n\n\nState Firearm Law\n\nOverview of laws\nDiscussion regarding regulated firearms\nHow to purchase\nHow to transfer\nWhere permitted to carry\nWhere permitted to transport\nWhere it is necessary to possess a permit\nWho is prohibited from possessing\n\n\n\nHome Firearm Safety\n\nOverview of firearm safety in the home\nDiscussion on access to minors\nLocking & storing\nProper use of safety devices\n\n\n\nHandgun Mechanism & Operation\n\nOverview of proper operation\nOverview of safe handling\nCleaning & maintenance\nLoading & unloading\nDifferences between revolvers & automatics\n\n\n\nThe course will also consist of a live fire component in which you will demonstrate your ability to fire a pistol under the supervision of an instructor. The rental of a semi automatic .22 caliber pistol and ammunition is included in the course fee. \nPlease contact us for further details and questions. \n  \nUnder the Firearms Safety Act 2013 also known as SB281\, all new handgun purchasers must apply for and receive a Handgun Qualification License (HQL) before purchase. This HQL must be presented to the FFL or gun shop. \nThere are certain individuals who are exempt from the handgun qualification license: \n\nA Licensed Firearms Manufacturer.\nActive law enforcement officer or a person retired in good standing from a law enforcement agency of the United States\, the State\, or a local law enforcement agency of the State.\nA member or retired member of the armed forces of the United States or National Guard.\nA person purchasing\, renting or receiving an antique\, curio or relic as defined in federal law or in determinations published by the Bureau of Alcohol\, Tobacco\, Firearms and Explosives.\n\nThe above listed individuals must provide acceptable documentation or valid credentials to a Regulated Firearms Dealer prior to purchasing or transferring a regulated firearm. All other Maryland residents are required to possess and present a valid Handgun Qualification License prior to the purchase or transfer of a regulated firearm. \nPersons required to have a Handgun Qualification License\, but who are exempt from the training component: \n\nHave completed a Maryland State Police (MSP) approved certified firearms safety course.\nHave completed a course of instruction and been issued a certificate of competency in firearms and hunter safety from the Maryland Department of Natural Resources.\nIs currently a qualified handgun instructor.\nIs an honorably discharged member of the armed forces of the United States or National Guard.\nIs an employee of an armored car company who has a valid Wear and Carry Permit issued by MSP.\nLawfully owns a regulated firearm. If you own a regulated firearm prior to October 1\, 2013\, you are not required to complete the training and may apply for the Handgun Qualification License.\n\nPlease contact us for further details and questions.
URL:https://www.midatlantichandguntraining.com/event/md-handgun-qualification-hql-training/
LOCATION:Funkstown Volunteer Fire Company\, 2 S. Westside Ave\, Funkstown\, MD\, 21734\, United States
CATEGORIES:Classes
ATTACH;FMTTYPE=image/jpeg:https://www.midatlantichandguntraining.com/wp-content/uploads/2013/10/firearms-training-01.jpg
END:VEVENT
BEGIN:VEVENT
DTSTART;TZID=America/New_York:20220924T100000
DTEND;TZID=America/New_York:20220924T140000
DTSTAMP:20260423T060411
CREATED:20220809T201727Z
LAST-MODIFIED:20220811T222017Z
UID:532-1664013600-1664028000@www.midatlantichandguntraining.com
SUMMARY:Machine Gun Training (Sold Out)
DESCRIPTION:Class will run from 10am-2pm \nThis class will introduce students to the different types of machine guns that are available to be transferred to individuals. The National Firearms Act of 1934 will be reviewed as well as the procedure to purchase\, register and maintain a machine gun in MD. During the class students will be able to fire multiple machine guns from 1921 to present. The Colt 1928 Navy Overstamp Thompson\, M3A1 Grease Gun\, S&W Model 76\, H&K MP5kSD\, Mac 10 and a Glock 18 will be some of the machine guns highlighted in this one of a kind class! Spots fill up super fast\, almost as fast as 1300 rounds a minute……. \n\n\nhttps://midatlantic.smartsoftware.solutions/wp-content/uploads/2022/08/MachineGunClass1_Converted.mp4\n\n \n\nhttps://midatlantic.smartsoftware.solutions/wp-content/uploads/2022/08/MachineGunClass2_Converted.mp4\n\n \n\nhttps://midatlantic.smartsoftware.solutions/wp-content/uploads/2022/08/MachineGunClass3_Converted.mp4
URL:https://www.midatlantichandguntraining.com/event/machine-gun-training/
LOCATION:MD
ATTACH;FMTTYPE=image/jpeg:https://www.midatlantichandguntraining.com/wp-content/uploads/2022/08/Pic-for-Machine-Gun-Class-2.jpg
END:VEVENT
BEGIN:VEVENT
DTSTART;TZID=America/New_York:20220909T090000
DTEND;TZID=America/New_York:20220910T170000
DTSTAMP:20260423T060411
CREATED:20220811T193349Z
LAST-MODIFIED:20220813T011138Z
UID:634-1662714000-1662829200@www.midatlantichandguntraining.com
SUMMARY:MD Concealed Carry Class
DESCRIPTION:The Maryland Handgun Wear and Carry Permit Training class is a 2 day program and students must attend both days. Mid Atlantic Handgun Training will provide the students with the required training to apply for the MD Concealed Carry Permit. We assist the student through the entire process\, including the online application with the MSP. Our award winning program books up quickly\, due to our small class size allowing individualized instruction\, when needed. \nTopics covered include: \n\nCurrent Maryland Firearm Laws & Regulations\nDeveloping a Personal Protection Plan\nSelf Defense Firearm Basics\nDefensive Shooting Fundamentals\nThe Legal Use of Force\nViolent Encounters and Their Aftermath\nGear and Gadgets\nBasic and Advanced Skills and Tactics\n\nThis program also includes the required live fire firearm qualification as required by the Maryland statute. \nThe dates for this class will be 9/9 & 9/10.
URL:https://www.midatlantichandguntraining.com/event/md-concealed-carry-class-day-1-2/
LOCATION:Funkstown Volunteer Fire Company\, 2 S. Westside Ave\, Funkstown\, MD\, 21734\, United States
CATEGORIES:Classes
ATTACH;FMTTYPE=image/jpeg:https://www.midatlantichandguntraining.com/wp-content/uploads/2022/08/Banner-for-Concealed-Carry-Class.jpg
END:VEVENT
BEGIN:VEVENT
DTSTART;TZID=America/Halifax:20220909T090000
DTEND;TZID=America/Halifax:20220909T130000
DTSTAMP:20260423T060411
CREATED:20220811T194739Z
LAST-MODIFIED:20220829T132845Z
UID:656-1662714000-1662728400@www.midatlantichandguntraining.com
SUMMARY:MD Handgun Qualification (HQL) Training
DESCRIPTION:Product Description\nMid Atlantic Handgun Training\, Inc. is offering the required 4 hour training course for the MD HQL. This course will consist of the following topics: \n\n\nState Firearm Law\n\nOverview of laws\nDiscussion regarding regulated firearms\nHow to purchase\nHow to transfer\nWhere permitted to carry\nWhere permitted to transport\nWhere it is necessary to possess a permit\nWho is prohibited from possessing\n\n\n\nHome Firearm Safety\n\nOverview of firearm safety in the home\nDiscussion on access to minors\nLocking & storing\nProper use of safety devices\n\n\n\nHandgun Mechanism & Operation\n\nOverview of proper operation\nOverview of safe handling\nCleaning & maintenance\nLoading & unloading\nDifferences between revolvers & automatics\n\n\n\nThe course will also consist of a live fire component in which you will demonstrate your ability to fire a pistol under the supervision of an instructor. The rental of a semi automatic .22 caliber pistol and ammunition is included in the course fee. \nPlease contact us for further details and questions. \n  \nUnder the Firearms Safety Act 2013 also known as SB281\, all new handgun purchasers must apply for and receive a Handgun Qualification License (HQL) before purchase. This HQL must be presented to the FFL or gun shop. \nThere are certain individuals who are exempt from the handgun qualification license: \n\nA Licensed Firearms Manufacturer.\nActive law enforcement officer or a person retired in good standing from a law enforcement agency of the United States\, the State\, or a local law enforcement agency of the State.\nA member or retired member of the armed forces of the United States or National Guard.\nA person purchasing\, renting or receiving an antique\, curio or relic as defined in federal law or in determinations published by the Bureau of Alcohol\, Tobacco\, Firearms and Explosives.\n\nThe above listed individuals must provide acceptable documentation or valid credentials to a Regulated Firearms Dealer prior to purchasing or transferring a regulated firearm. All other Maryland residents are required to possess and present a valid Handgun Qualification License prior to the purchase or transfer of a regulated firearm. \nPersons required to have a Handgun Qualification License\, but who are exempt from the training component: \n\nHave completed a Maryland State Police (MSP) approved certified firearms safety course.\nHave completed a course of instruction and been issued a certificate of competency in firearms and hunter safety from the Maryland Department of Natural Resources.\nIs currently a qualified handgun instructor.\nIs an honorably discharged member of the armed forces of the United States or National Guard.\nIs an employee of an armored car company who has a valid Wear and Carry Permit issued by MSP.\nLawfully owns a regulated firearm. If you own a regulated firearm prior to October 1\, 2013\, you are not required to complete the training and may apply for the Handgun Qualification License.\n\nPlease contact us for further details and questions.
URL:https://www.midatlantichandguntraining.com/event/md-handgun-qualification-hql-training-2/
LOCATION:Funkstown Volunteer Fire Company\, 2 S. Westside Ave\, Funkstown\, MD\, 21734\, United States
CATEGORIES:Classes
ATTACH;FMTTYPE=image/jpeg:https://www.midatlantichandguntraining.com/wp-content/uploads/2013/10/firearms-training-01.jpg
END:VEVENT
END:VCALENDAR